BEGIN:VCALENDAR
VERSION:2.0
PRODID:-//Miss Tourism Uganda - ECPv6.10.1.1//NONSGML v1.0//EN
CALSCALE:GREGORIAN
METHOD:PUBLISH
X-ORIGINAL-URL:https://misstourismug.org
X-WR-CALDESC:Events for Miss Tourism Uganda
REFRESH-INTERVAL;VALUE=DURATION:PT1H
X-Robots-Tag:noindex
X-PUBLISHED-TTL:PT1H
BEGIN:VTIMEZONE
TZID:UTC
BEGIN:STANDARD
TZOFFSETFROM:+0000
TZOFFSETTO:+0000
TZNAME:UTC
DTSTART:20230101T000000
END:STANDARD
END:VTIMEZONE
BEGIN:VEVENT
DTSTART;VALUE=DATE:20230125
DTEND;VALUE=DATE:20230301
DTSTAMP:20260425T004714
CREATED:20230125T095502Z
LAST-MODIFIED:20230217T084118Z
UID:8250-1674604800-1677628799@misstourismug.org
SUMMARY:Let the Pearl shine
DESCRIPTION:Let’s match to clean our Country within different cities all over Uganda.
URL:https://misstourismug.org/event/let-the-pearl-shine/
END:VEVENT
END:VCALENDAR